BEGIN:VCALENDAR
VERSION:2.0
PRODID:-//Sandy Ridge Golf Course - Midland, MI - ECPv6.15.20//NONSGML v1.0//EN
CALSCALE:GREGORIAN
METHOD:PUBLISH
X-ORIGINAL-URL:https://golfsandyridge.com
X-WR-CALDESC:Events for Sandy Ridge Golf Course - Midland, MI
REFRESH-INTERVAL;VALUE=DURATION:PT1H
X-Robots-Tag:noindex
X-PUBLISHED-TTL:PT1H
BEGIN:VTIMEZONE
TZID:UTC
BEGIN:STANDARD
TZOFFSETFROM:+0000
TZOFFSETTO:+0000
TZNAME:UTC
DTSTART:20250101T000000
END:STANDARD
END:VTIMEZONE
BEGIN:VEVENT
DTSTART;TZID=UTC:20260503T120000
DTEND;TZID=UTC:20260503T140000
DTSTAMP:20260425T113407
CREATED:20260409T002114Z
LAST-MODIFIED:20260409T002120Z
UID:3542-1777809600-1777816800@golfsandyridge.com
SUMMARY:Private Deck Event
DESCRIPTION:
URL:https://golfsandyridge.com/event/private-deck-event-4/
CATEGORIES:Events
END:VEVENT
BEGIN:VEVENT
DTSTART;TZID=UTC:20260504T090000
DTEND;TZID=UTC:20260504T140000
DTSTAMP:20260425T113407
CREATED:20260409T002344Z
LAST-MODIFIED:20260409T002346Z
UID:3543-1777885200-1777903200@golfsandyridge.com
SUMMARY:Midland Dow Invitational
DESCRIPTION:
URL:https://golfsandyridge.com/event/midland-dow-invitational/
CATEGORIES:Golf Outing
END:VEVENT
BEGIN:VEVENT
DTSTART;TZID=UTC:20260516T090000
DTEND;TZID=UTC:20260516T140000
DTSTAMP:20260425T113407
CREATED:20260409T003129Z
LAST-MODIFIED:20260409T005818Z
UID:3544-1778922000-1778940000@golfsandyridge.com
SUMMARY:Tony Garcia Foundation Outing
DESCRIPTION:
URL:https://golfsandyridge.com/event/tony-garcia-foundation-outing-2/
CATEGORIES:Golf Outing
END:VEVENT
BEGIN:VEVENT
DTSTART;TZID=UTC:20260517T110000
DTEND;TZID=UTC:20260517T140000
DTSTAMP:20260425T113407
CREATED:20260409T003247Z
LAST-MODIFIED:20260409T003251Z
UID:3545-1779015600-1779026400@golfsandyridge.com
SUMMARY:Private Deck Event
DESCRIPTION:
URL:https://golfsandyridge.com/event/private-deck-event-5/
CATEGORIES:Events
END:VEVENT
BEGIN:VEVENT
DTSTART;TZID=UTC:20260521T090000
DTEND;TZID=UTC:20260521T140000
DTSTAMP:20260425T113407
CREATED:20260409T003420Z
LAST-MODIFIED:20260409T003422Z
UID:3546-1779354000-1779372000@golfsandyridge.com
SUMMARY:Western High Curhee Invitational
DESCRIPTION:
URL:https://golfsandyridge.com/event/western-high-curhee-invitational/
CATEGORIES:Golf Outing
END:VEVENT
BEGIN:VEVENT
DTSTART;TZID=UTC:20260529T090000
DTEND;TZID=UTC:20260529T140000
DTSTAMP:20260425T113407
CREATED:20260409T003926Z
LAST-MODIFIED:20260409T003929Z
UID:3547-1780045200-1780063200@golfsandyridge.com
SUMMARY:Corteva Maintenance Work Group Outing
DESCRIPTION:
URL:https://golfsandyridge.com/event/corteva-maintenance-work-group-outing/
CATEGORIES:Golf Outing
END:VEVENT
BEGIN:VEVENT
DTSTART;TZID=UTC:20260529T170000
DTEND;TZID=UTC:20260529T210000
DTSTAMP:20260425T113407
CREATED:20260409T004020Z
LAST-MODIFIED:20260409T004022Z
UID:3548-1780074000-1780088400@golfsandyridge.com
SUMMARY:Private Deck Event
DESCRIPTION:
URL:https://golfsandyridge.com/event/private-deck-event-6/
CATEGORIES:Events
END:VEVENT
BEGIN:VEVENT
DTSTART;TZID=UTC:20260604T090000
DTEND;TZID=UTC:20260604T140000
DTSTAMP:20260425T113407
CREATED:20260409T004556Z
LAST-MODIFIED:20260420T153444Z
UID:3549-1780563600-1780581600@golfsandyridge.com
SUMMARY:Great Lakes bay Veterans Coalition day 1
DESCRIPTION:
URL:https://golfsandyridge.com/event/great-lakes-bay-veterans-coalition-day-1-2/
CATEGORIES:Golf Outing
END:VEVENT
BEGIN:VEVENT
DTSTART;TZID=UTC:20260605T090000
DTEND;TZID=UTC:20260605T140000
DTSTAMP:20260425T113407
CREATED:20260409T004709Z
LAST-MODIFIED:20260420T153516Z
UID:3550-1780650000-1780668000@golfsandyridge.com
SUMMARY:Great Lakes Bay Veterans Coalition day 2
DESCRIPTION:
URL:https://golfsandyridge.com/event/great-lakes-bay-veterans-coalition-day-2-2/
CATEGORIES:Golf Outing
END:VEVENT
BEGIN:VEVENT
DTSTART;TZID=UTC:20260606T090000
DTEND;TZID=UTC:20260606T140000
DTSTAMP:20260425T113407
CREATED:20260409T004922Z
LAST-MODIFIED:20260409T005642Z
UID:3551-1780736400-1780754400@golfsandyridge.com
SUMMARY:Z93 Morning After Scramble
DESCRIPTION:
URL:https://golfsandyridge.com/event/z93-morning-after-scramble/
CATEGORIES:Golf Outing
END:VEVENT
BEGIN:VEVENT
DTSTART;TZID=UTC:20260607T090000
DTEND;TZID=UTC:20260607T140000
DTSTAMP:20260425T113407
CREATED:20260409T005330Z
LAST-MODIFIED:20260409T010111Z
UID:3552-1780822800-1780840800@golfsandyridge.com
SUMMARY:Boulevard Lounge Outing
DESCRIPTION:Registration will open May 1st\, 2026
URL:https://golfsandyridge.com/event/boulevard-lounge-outing/
CATEGORIES:Golf Outing
END:VEVENT
BEGIN:VEVENT
DTSTART;TZID=UTC:20260612T090000
DTEND;TZID=UTC:20260612T140000
DTSTAMP:20260425T113407
CREATED:20260409T010323Z
LAST-MODIFIED:20260409T010325Z
UID:3557-1781254800-1781272800@golfsandyridge.com
SUMMARY:DuPont site Care team Outing
DESCRIPTION:
URL:https://golfsandyridge.com/event/dupont-site-care-team-outing/
CATEGORIES:Golf Outing
END:VEVENT
BEGIN:VEVENT
DTSTART;TZID=UTC:20260613T090000
DTEND;TZID=UTC:20260613T140000
DTSTAMP:20260425T113407
CREATED:20260409T010513Z
LAST-MODIFIED:20260409T010534Z
UID:3558-1781341200-1781359200@golfsandyridge.com
SUMMARY:Bay City Cooperative Market Outing
DESCRIPTION:
URL:https://golfsandyridge.com/event/bay-city-cooperative-market-2/
CATEGORIES:Golf Outing
END:VEVENT
BEGIN:VEVENT
DTSTART;TZID=UTC:20260613T130000
DTEND;TZID=UTC:20260613T170000
DTSTAMP:20260425T113407
CREATED:20260409T010710Z
LAST-MODIFIED:20260409T010714Z
UID:3559-1781355600-1781370000@golfsandyridge.com
SUMMARY:Private Deck Event
DESCRIPTION:
URL:https://golfsandyridge.com/event/private-deck-event-7/
CATEGORIES:Events
END:VEVENT
BEGIN:VEVENT
DTSTART;TZID=UTC:20260618T090000
DTEND;TZID=UTC:20260618T140000
DTSTAMP:20260425T113407
CREATED:20260409T011049Z
LAST-MODIFIED:20260409T011052Z
UID:3560-1781773200-1781791200@golfsandyridge.com
SUMMARY:cancer Services Outing
DESCRIPTION:
URL:https://golfsandyridge.com/event/cancer-services-outing/
CATEGORIES:Golf Outing
END:VEVENT
BEGIN:VEVENT
DTSTART;TZID=UTC:20260619T090000
DTEND;TZID=UTC:20260619T140000
DTSTAMP:20260425T113407
CREATED:20260409T011217Z
LAST-MODIFIED:20260409T011221Z
UID:3562-1781859600-1781877600@golfsandyridge.com
SUMMARY:Midland Exchange Outing
DESCRIPTION:
URL:https://golfsandyridge.com/event/midland-exchange-outing-2/
CATEGORIES:Golf Outing
END:VEVENT
BEGIN:VEVENT
DTSTART;TZID=UTC:20260620T093000
DTEND;TZID=UTC:20260620T143000
DTSTAMP:20260425T113407
CREATED:20260409T180017Z
LAST-MODIFIED:20260409T180019Z
UID:3563-1781947800-1781965800@golfsandyridge.com
SUMMARY:Northwood Men's Basketball Outing
DESCRIPTION:
URL:https://golfsandyridge.com/event/northwood-mens-basketball-outing-2/
END:VEVENT
BEGIN:VEVENT
DTSTART;TZID=UTC:20260621T090000
DTEND;TZID=UTC:20260621T140000
DTSTAMP:20260425T113407
CREATED:20260414T183919Z
LAST-MODIFIED:20260414T183920Z
UID:3568-1782032400-1782050400@golfsandyridge.com
SUMMARY:Northwood Women's Soccer
DESCRIPTION:
URL:https://golfsandyridge.com/event/northwood-womens-soccer/
END:VEVENT
BEGIN:VEVENT
DTSTART;TZID=UTC:20260622T083000
DTEND;TZID=UTC:20260622T113000
DTSTAMP:20260425T113407
CREATED:20260414T184118Z
LAST-MODIFIED:20260414T184122Z
UID:3569-1782117000-1782127800@golfsandyridge.com
SUMMARY:PGA Jr Match
DESCRIPTION:
URL:https://golfsandyridge.com/event/pga-jr-match/
END:VEVENT
BEGIN:VEVENT
DTSTART;TZID=UTC:20260624T083000
DTEND;TZID=UTC:20260624T113000
DTSTAMP:20260425T113407
CREATED:20260414T184536Z
LAST-MODIFIED:20260414T184538Z
UID:3570-1782289800-1782300600@golfsandyridge.com
SUMMARY:PGA Jr Match
DESCRIPTION:
URL:https://golfsandyridge.com/event/pga-jr-match-2/
END:VEVENT
BEGIN:VEVENT
DTSTART;TZID=UTC:20260626T090000
DTEND;TZID=UTC:20260626T143000
DTSTAMP:20260425T113407
CREATED:20260414T184742Z
LAST-MODIFIED:20260419T230542Z
UID:3571-1782464400-1782484200@golfsandyridge.com
SUMMARY:Relay For Life Midland County
DESCRIPTION:
URL:https://golfsandyridge.com/event/relay-for-life-midland-county-2/
END:VEVENT
BEGIN:VEVENT
DTSTART;TZID=UTC:20260626T210000
DTEND;TZID=UTC:20260626T233000
DTSTAMP:20260425T113407
CREATED:20260414T185041Z
LAST-MODIFIED:20260414T185042Z
UID:3574-1782507600-1782516600@golfsandyridge.com
SUMMARY:Sandy Ridge Glow Vibe Golf
DESCRIPTION:
URL:https://golfsandyridge.com/event/sandy-ridge-glow-vibe-golf/
END:VEVENT
BEGIN:VEVENT
DTSTART;TZID=UTC:20260627T090000
DTEND;TZID=UTC:20260627T143000
DTSTAMP:20260425T113407
CREATED:20260414T190135Z
LAST-MODIFIED:20260414T190138Z
UID:3575-1782550800-1782570600@golfsandyridge.com
SUMMARY:Northwood Volleyball
DESCRIPTION:
URL:https://golfsandyridge.com/event/northwood-volleyball/
END:VEVENT
BEGIN:VEVENT
DTSTART;TZID=UTC:20260628T090000
DTEND;TZID=UTC:20260628T143000
DTSTAMP:20260425T113407
CREATED:20260414T191743Z
LAST-MODIFIED:20260414T191745Z
UID:3576-1782637200-1782657000@golfsandyridge.com
SUMMARY:Serra Chevy Outing
DESCRIPTION:
URL:https://golfsandyridge.com/event/serra-chevy-outing-2/
END:VEVENT
BEGIN:VEVENT
DTSTART;TZID=UTC:20260702T090000
DTEND;TZID=UTC:20260702T143000
DTSTAMP:20260425T113407
CREATED:20260419T203136Z
LAST-MODIFIED:20260419T203137Z
UID:3578-1782982800-1783002600@golfsandyridge.com
SUMMARY:Swiftwall Work Group
DESCRIPTION:
URL:https://golfsandyridge.com/event/swiftwall-work-group/
END:VEVENT
BEGIN:VEVENT
DTSTART;TZID=UTC:20260711T090000
DTEND;TZID=UTC:20260711T143000
DTSTAMP:20260425T113407
CREATED:20260419T203900Z
LAST-MODIFIED:20260419T203902Z
UID:3579-1783760400-1783780200@golfsandyridge.com
SUMMARY:Spike's Cause - Suicide Awareness Outing
DESCRIPTION:
URL:https://golfsandyridge.com/event/spikes-cause-suicide-awareness-outing/
END:VEVENT
BEGIN:VEVENT
DTSTART;TZID=UTC:20260712T090000
DTEND;TZID=UTC:20260712T143000
DTSTAMP:20260425T113407
CREATED:20260419T204305Z
LAST-MODIFIED:20260419T204307Z
UID:3581-1783846800-1783866600@golfsandyridge.com
SUMMARY:Freeland Soccer Club Outing Fundraiser
DESCRIPTION:
URL:https://golfsandyridge.com/event/freeland-soccer-club-outing-fundraiser/
END:VEVENT
BEGIN:VEVENT
DTSTART;TZID=UTC:20260717T120000
DTEND;TZID=UTC:20260717T173000
DTSTAMP:20260425T113407
CREATED:20260419T204436Z
LAST-MODIFIED:20260419T204438Z
UID:3584-1784289600-1784309400@golfsandyridge.com
SUMMARY:Midland High Football
DESCRIPTION:
URL:https://golfsandyridge.com/event/midland-high-football/
END:VEVENT
BEGIN:VEVENT
DTSTART;TZID=UTC:20260718T090000
DTEND;TZID=UTC:20260718T143000
DTSTAMP:20260425T113407
CREATED:20260419T204547Z
LAST-MODIFIED:20260419T204548Z
UID:3586-1784365200-1784385000@golfsandyridge.com
SUMMARY:Northwood Bowling
DESCRIPTION:
URL:https://golfsandyridge.com/event/northwood-bowling/
END:VEVENT
BEGIN:VEVENT
DTSTART;TZID=UTC:20260719T090000
DTEND;TZID=UTC:20260719T143000
DTSTAMP:20260425T113407
CREATED:20260419T204707Z
LAST-MODIFIED:20260419T204708Z
UID:3587-1784451600-1784471400@golfsandyridge.com
SUMMARY:Midland Area Shrine Club Outing
DESCRIPTION:
URL:https://golfsandyridge.com/event/midland-area-shrine-club-outing-2/
END:VEVENT
END:VCALENDAR